BEGIN:VCALENDAR
VERSION:2.0
PRODID:-//Nature - ECPv5.14.1//NONSGML v1.0//EN
CALSCALE:GREGORIAN
METHOD:PUBLISH
X-WR-CALNAME:Nature
X-ORIGINAL-URL:https://marcbeyrouthy.com
X-WR-CALDESC:Events for Nature
REFRESH-INTERVAL;VALUE=DURATION:PT1H
X-Robots-Tag:noindex
X-PUBLISHED-TTL:PT1H
BEGIN:VTIMEZONE
TZID:Europe/Moscow
BEGIN:STANDARD
TZOFFSETFROM:+0300
TZOFFSETTO:+0300
TZNAME:MSK
DTSTART:20250101T000000
END:STANDARD
END:VTIMEZONE
BEGIN:VEVENT
DTSTART;TZID=Europe/Moscow:20250731T183000
DTEND;TZID=Europe/Moscow:20250731T203000
DTSTAMP:20260423T135154
CREATED:20250726T175402Z
LAST-MODIFIED:20250726T175402Z
UID:1946-1753986600-1753993800@marcbeyrouthy.com
SUMMARY:Get What is Alternative Medicine !
DESCRIPTION:Lecture for Alternative Medicine Specialist Dr Robert Murr concerning Diabetes\, its problems \, and how to treat it totally in five months.\nPlus insights on Digestive system and Immune issues.)
URL:https://marcbeyrouthy.com/event/get-what-is-alternative-medicine/
LOCATION:MadeByNature\, Antelias Near Caritas\, Antelias\, Lebanon
CATEGORIES:Sessions
ATTACH;FMTTYPE=image/jpeg:https://marcbeyrouthy.com/wp-content/uploads/2025/07/025.07.31-Get-What-is-Alternative-Medicine-.jpeg
END:VEVENT
END:VCALENDAR